Package: MultiAssayExperiment Version: 1.33.9 Command: /home/rapidbuild/bbs-3.21-bioc-rapid/R/bin/R CMD check --install=check:MultiAssayExperiment.install-out.txt --library=/home/rapidbuild/bbs-3.21-bioc-rapid/R/site-library --timings MultiAssayExperiment_1.33.9.tar.gz StartedAt: 2025-02-10 09:13:44 -0500 (Mon, 10 Feb 2025) EndedAt: 2025-02-10 09:18:23 -0500 (Mon, 10 Feb 2025) EllapsedTime: 279.7 seconds RetCode: 0 Status: OK CheckDir: MultiAssayExperiment.Rcheck Warnings: 0