Package: MultiAssayExperiment Version: 1.33.9 Command: /home/rapidbuild/bbs-3.21-bioc-rapid/R/bin/R CMD INSTALL MultiAssayExperiment StartedAt: 2025-02-10 06:22:30 -0500 (Mon, 10 Feb 2025) EndedAt: 2025-02-10 06:22:59 -0500 (Mon, 10 Feb 2025) EllapsedTime: 28.7 seconds RetCode: 0 Status: OK