Package: QFeatures Version: 1.17.2 Maintainer: Laurent Gatto MaintainerEmail: laurent.gatto at uclouvain.be git_url: https://git.bioconductor.org/packages/QFeatures git_branch: devel git_last_commit: 84d3099 git_last_commit_date: 2025-02-07 14:29:19 -0500 (Fri, 07 Feb 2025)