Package: QFeatures Version: 1.17.2 Command: /home/rapidbuild/bbs-3.21-bioc-rapid/R/bin/R CMD INSTALL QFeatures StartedAt: 2025-02-10 06:22:59 -0500 (Mon, 10 Feb 2025) EndedAt: 2025-02-10 06:23:26 -0500 (Mon, 10 Feb 2025) EllapsedTime: 26.4 seconds RetCode: 0 Status: OK