Package: RaggedExperiment Version: 1.31.1 Command: /home/rapidbuild/bbs-3.21-bioc-rapid/R/bin/R CMD build --keep-empty-dirs --no-resave-data RaggedExperiment StartedAt: 2025-02-10 07:26:54 -0500 (Mon, 10 Feb 2025) EndedAt: 2025-02-10 07:27:34 -0500 (Mon, 10 Feb 2025) EllapsedTime: 39.3 seconds RetCode: 0 Status: OK PackageFile: RaggedExperiment_1.31.1.tar.gz PackageFileSize: 687.1 KiB