Package: RaggedExperiment Version: 1.31.1 Command: /home/rapidbuild/bbs-3.21-bioc-rapid/R/bin/R CMD check --install=check:RaggedExperiment.install-out.txt --library=/home/rapidbuild/bbs-3.21-bioc-rapid/R/site-library --timings RaggedExperiment_1.31.1.tar.gz StartedAt: 2025-02-13 14:56:16 -0500 (Thu, 13 Feb 2025) EndedAt: 2025-02-13 14:58:45 -0500 (Thu, 13 Feb 2025) EllapsedTime: 149.5 seconds RetCode: 0 Status: OK CheckDir: RaggedExperiment.Rcheck Warnings: 0