Package: RaggedExperiment Version: 1.31.1 Command: /home/rapidbuild/bbs-3.21-bioc-rapid/R/bin/R CMD INSTALL RaggedExperiment StartedAt: 2025-02-10 06:19:03 -0500 (Mon, 10 Feb 2025) EndedAt: 2025-02-10 06:19:22 -0500 (Mon, 10 Feb 2025) EllapsedTime: 18.8 seconds RetCode: 0 Status: OK