Package: Rgraphviz Version: 2.51.0 Command: /home/rapidbuild/bbs-3.21-bioc-rapid/R/bin/R CMD build --keep-empty-dirs --no-resave-data Rgraphviz StartedAt: 2025-02-10 07:29:42 -0500 (Mon, 10 Feb 2025) EndedAt: 2025-02-10 07:31:03 -0500 (Mon, 10 Feb 2025) EllapsedTime: 81.0 seconds RetCode: 0 Status: OK PackageFile: Rgraphviz_2.51.0.tar.gz PackageFileSize: 7.341 MiB