Package: Rgraphviz Version: 2.51.0 Command: /home/rapidbuild/bbs-3.21-bioc-rapid/R/bin/R CMD check --install=check:Rgraphviz.install-out.txt --library=/home/rapidbuild/bbs-3.21-bioc-rapid/R/site-library --timings Rgraphviz_2.51.0.tar.gz StartedAt: 2025-02-10 09:24:45 -0500 (Mon, 10 Feb 2025) EndedAt: 2025-02-10 09:25:48 -0500 (Mon, 10 Feb 2025) EllapsedTime: 63.3 seconds RetCode: 0 Status: WARNINGS CheckDir: Rgraphviz.Rcheck Warnings: 2