Package: Rgraphviz Version: 2.51.0 Command: /home/rapidbuild/bbs-3.21-bioc-rapid/R/bin/R CMD INSTALL Rgraphviz StartedAt: 2025-02-13 12:10:44 -0500 (Thu, 13 Feb 2025) EndedAt: 2025-02-13 12:12:13 -0500 (Thu, 13 Feb 2025) EllapsedTime: 88.7 seconds RetCode: 0 Status: OK