Package: biomaRt Version: 2.63.1 Maintainer: Mike Smith MaintainerEmail: grimbough at gmail.com git_url: https://git.bioconductor.org/packages/biomaRt git_branch: devel git_last_commit: 01d00d6 git_last_commit_date: 2025-01-29 09:27:23 -0500 (Wed, 29 Jan 2025)