Package: bluster Version: 1.17.0 Command: /home/rapidbuild/bbs-3.21-bioc-rapid/R/bin/R CMD INSTALL bluster StartedAt: 2025-02-10 06:16:39 -0500 (Mon, 10 Feb 2025) EndedAt: 2025-02-10 06:16:58 -0500 (Mon, 10 Feb 2025) EllapsedTime: 19.2 seconds RetCode: 0 Status: OK