Package: cytolib Version: 2.19.3 Command: /home/rapidbuild/bbs-3.21-bioc-rapid/R/bin/R CMD INSTALL cytolib StartedAt: 2025-02-04 12:08:49 -0500 (Tue, 04 Feb 2025) EndedAt: 2025-02-04 12:11:04 -0500 (Tue, 04 Feb 2025) EllapsedTime: 134.3 seconds RetCode: 0 Status: OK