Package: ensembldb Version: 2.31.0 Command: /home/rapidbuild/bbs-3.21-bioc-rapid/R/bin/R CMD check --install=check:ensembldb.install-out.txt --library=/home/rapidbuild/bbs-3.21-bioc-rapid/R/site-library --timings ensembldb_2.31.0.tar.gz StartedAt: 2025-02-04 14:16:24 -0500 (Tue, 04 Feb 2025) EndedAt: 2025-02-04 14:29:07 -0500 (Tue, 04 Feb 2025) EllapsedTime: 763.2 seconds RetCode: 0 Status: OK CheckDir: ensembldb.Rcheck Warnings: 0