Package: ensembldb Version: 2.31.0 Command: /home/rapidbuild/bbs-3.21-bioc-rapid/R/bin/R CMD INSTALL ensembldb StartedAt: 2025-02-10 06:26:57 -0500 (Mon, 10 Feb 2025) EndedAt: 2025-02-10 06:27:33 -0500 (Mon, 10 Feb 2025) EllapsedTime: 36.4 seconds RetCode: 0 Status: OK