Package: flowViz Version: 1.71.0 Command: /home/rapidbuild/bbs-3.21-bioc-rapid/R/bin/R CMD build --keep-empty-dirs --no-resave-data flowViz StartedAt: 2025-02-04 12:50:20 -0500 (Tue, 04 Feb 2025) EndedAt: 2025-02-04 12:51:13 -0500 (Tue, 04 Feb 2025) EllapsedTime: 53.6 seconds RetCode: 0 Status: OK PackageFile: flowViz_1.71.0.tar.gz PackageFileSize: 989.3 KiB