Package: flowViz Version: 1.71.0 Command: /home/rapidbuild/bbs-3.21-bioc-rapid/R/bin/R CMD INSTALL flowViz StartedAt: 2025-02-10 06:13:52 -0500 (Mon, 10 Feb 2025) EndedAt: 2025-02-10 06:14:00 -0500 (Mon, 10 Feb 2025) EllapsedTime: 8.2 seconds RetCode: 0 Status: OK