Package: graph Version: 1.85.1 Command: /home/rapidbuild/bbs-3.21-bioc-rapid/R/bin/R CMD INSTALL graph StartedAt: 2025-02-05 06:10:12 -0500 (Wed, 05 Feb 2025) EndedAt: 2025-02-05 06:10:22 -0500 (Wed, 05 Feb 2025) EllapsedTime: 10.0 seconds RetCode: 0 Status: OK