Package: interactiveDisplayBase Version: 1.45.0 Command: /home/rapidbuild/bbs-3.21-bioc-rapid/R/bin/R CMD check --install=check:interactiveDisplayBase.install-out.txt --library=/home/rapidbuild/bbs-3.21-bioc-rapid/R/site-library --timings interactiveDisplayBase_1.45.0.tar.gz StartedAt: 2025-02-13 14:41:00 -0500 (Thu, 13 Feb 2025) EndedAt: 2025-02-13 14:41:20 -0500 (Thu, 13 Feb 2025) EllapsedTime: 20.0 seconds RetCode: 0 Status: OK CheckDir: interactiveDisplayBase.Rcheck Warnings: 0