Package: interactiveDisplayBase Version: 1.45.0 Command: /home/rapidbuild/bbs-3.21-bioc-rapid/R/bin/R CMD INSTALL interactiveDisplayBase StartedAt: 2025-02-13 12:13:50 -0500 (Thu, 13 Feb 2025) EndedAt: 2025-02-13 12:13:54 -0500 (Thu, 13 Feb 2025) EllapsedTime: 3.2 seconds RetCode: 0 Status: OK