Package: keggorthology Version: 2.59.0 Command: /home/rapidbuild/bbs-3.21-bioc-rapid/R/bin/R CMD build --keep-empty-dirs --no-resave-data keggorthology StartedAt: 2025-02-13 13:03:25 -0500 (Thu, 13 Feb 2025) EndedAt: 2025-02-13 13:03:42 -0500 (Thu, 13 Feb 2025) EllapsedTime: 17.3 seconds RetCode: 0 Status: OK PackageFile: keggorthology_2.59.0.tar.gz PackageFileSize: 787.8 KiB