Package: keggorthology Version: 2.59.0 Command: /home/rapidbuild/bbs-3.21-bioc-rapid/R/bin/R CMD INSTALL keggorthology StartedAt: 2025-02-10 06:23:53 -0500 (Mon, 10 Feb 2025) EndedAt: 2025-02-10 06:24:04 -0500 (Mon, 10 Feb 2025) EllapsedTime: 11.4 seconds RetCode: 0 Status: OK