Package: OHCA Version: 1.3.0 Command: /home/biocbuild/bbs-3.21-bioc/R/bin/R CMD build --keep-empty-dirs --no-resave-data OHCA StartedAt: 2025-02-10 10:17:08 -0500 (Mon, 10 Feb 2025) EndedAt: 2025-02-10 10:46:11 -0500 (Mon, 10 Feb 2025) EllapsedTime: 1742.8 seconds RetCode: 0 Status: OK PackageFile: OHCA_1.3.0.tar.gz PackageFileSize: 23.96 MiB