Package: OHCA Version: 1.3.0 Command: rm -rf OHCA.book && mkdir OHCA.book && /home/biocbuild/BBS/utils/deploy_book.py OHCA_1.3.0.tar.gz OHCA.book StartedAt: 2025-02-10 11:53:08 -0500 (Mon, 10 Feb 2025) EndedAt: 2025-02-10 11:53:09 -0500 (Mon, 10 Feb 2025) EllapsedTime: 1.3 seconds RetCode: 0 Status: OK DeployDestDir: OHCA.book Warnings: 0