Package: OSCA.intro Version: 1.15.2 Maintainer: Ludwig Geistlinger MaintainerEmail: ludwig_geistlinger at hms.harvard.edu git_url: https://git.bioconductor.org/packages/OSCA.intro git_branch: devel git_last_commit: f8a2210 git_last_commit_date: 2025-01-08 16:51:05 -0500 (Wed, 08 Jan 2025)