Package: OSCA.intro Version: 1.15.2 Command: rm -rf OSCA.intro.book && mkdir OSCA.intro.book && /home/biocbuild/BBS/utils/deploy_book.py OSCA.intro_1.15.2.tar.gz OSCA.intro.book StartedAt: 2025-02-03 11:54:06 -0500 (Mon, 03 Feb 2025) EndedAt: 2025-02-03 11:54:08 -0500 (Mon, 03 Feb 2025) EllapsedTime: 2.2 seconds RetCode: 0 Status: OK DeployDestDir: OSCA.intro.book Warnings: 0