Package: OSCA.intro Version: 1.15.2 Command: /home/biocbuild/bbs-3.21-bioc/R/bin/R CMD INSTALL OSCA.intro StartedAt: 2025-02-03 10:15:08 -0500 (Mon, 03 Feb 2025) EndedAt: 2025-02-03 10:15:41 -0500 (Mon, 03 Feb 2025) EllapsedTime: 33.3 seconds RetCode: 0 Status: OK