Package: OSCA.workflows Version: 1.15.3 Command: /home/biocbuild/bbs-3.21-bioc/R/bin/R CMD build --keep-empty-dirs --no-resave-data OSCA.workflows StartedAt: 2025-02-05 10:17:21 -0500 (Wed, 05 Feb 2025) EndedAt: 2025-02-05 11:26:09 -0500 (Wed, 05 Feb 2025) EllapsedTime: 4127.3 seconds RetCode: 0 Status: OK PackageFile: OSCA.workflows_1.15.3.tar.gz PackageFileSize: 17.18 MiB