Package: OSCA.workflows Version: 1.15.3 Command: rm -rf OSCA.workflows.book && mkdir OSCA.workflows.book && /home/biocbuild/BBS/utils/deploy_book.py OSCA.workflows_1.15.3.tar.gz OSCA.workflows.book StartedAt: 2025-02-05 11:53:04 -0500 (Wed, 05 Feb 2025) EndedAt: 2025-02-05 11:53:07 -0500 (Wed, 05 Feb 2025) EllapsedTime: 2.8 seconds RetCode: 0 Status: OK DeployDestDir: OSCA.workflows.book Warnings: 0