Package: AHMeSHDbs Version: 1.8.0 Command: /home/biocbuild/bbs-3.21-bioc/R/bin/R CMD build --keep-empty-dirs --no-resave-data AHMeSHDbs StartedAt: 2025-02-05 06:31:09 -0500 (Wed, 05 Feb 2025) EndedAt: 2025-02-05 06:31:26 -0500 (Wed, 05 Feb 2025) EllapsedTime: 16.4 seconds RetCode: 0 Status: OK PackageFile: AHMeSHDbs_1.8.0.tar.gz PackageFileSize: 321.9 KiB