Package: AHWikipathwaysDbs Version: 0.99.4 Command: /home/biocbuild/bbs-3.21-bioc/R/bin/R CMD check --install=check:AHWikipathwaysDbs.install-out.txt --library=/home/biocbuild/bbs-3.21-bioc/R/site-library --timings AHWikipathwaysDbs_0.99.4.tar.gz StartedAt: 2025-02-05 06:33:36 -0500 (Wed, 05 Feb 2025) EndedAt: 2025-02-05 06:34:29 -0500 (Wed, 05 Feb 2025) EllapsedTime: 53.5 seconds RetCode: 0 Status: OK CheckDir: AHWikipathwaysDbs.Rcheck Warnings: 0