Package: EpiTxDb.Mm.mm10 Version: 0.99.6 Command: /home/biocbuild/bbs-3.21-bioc/R/bin/R CMD build --keep-empty-dirs --no-resave-data EpiTxDb.Mm.mm10 StartedAt: 2025-02-05 06:31:14 -0500 (Wed, 05 Feb 2025) EndedAt: 2025-02-05 06:32:14 -0500 (Wed, 05 Feb 2025) EllapsedTime: 60.7 seconds RetCode: 0 Status: OK PackageFile: EpiTxDb.Mm.mm10_0.99.6.tar.gz PackageFileSize: 305.6 KiB