Package: EpiTxDb.Mm.mm10 Version: 0.99.6 Command: /home/biocbuild/bbs-3.21-bioc/R/bin/R CMD INSTALL EpiTxDb.Mm.mm10 StartedAt: 2025-02-12 06:30:27 -0500 (Wed, 12 Feb 2025) EndedAt: 2025-02-12 06:31:05 -0500 (Wed, 12 Feb 2025) EllapsedTime: 38.4 seconds RetCode: 0 Status: OK