Package: GeneSummary Version: 0.99.6 Command: /home/biocbuild/bbs-3.21-bioc/R/bin/R CMD build --keep-empty-dirs --no-resave-data GeneSummary StartedAt: 2025-02-05 06:31:26 -0500 (Wed, 05 Feb 2025) EndedAt: 2025-02-05 06:31:31 -0500 (Wed, 05 Feb 2025) EllapsedTime: 5.0 seconds RetCode: 0 Status: OK PackageFile: GeneSummary_0.99.6.tar.gz PackageFileSize: 3.3 MiB