Package: GeneSummary Version: 0.99.6 Command: /home/biocbuild/bbs-3.21-bioc/R/bin/R CMD check --install=check:GeneSummary.install-out.txt --library=/home/biocbuild/bbs-3.21-bioc/R/site-library --timings GeneSummary_0.99.6.tar.gz StartedAt: 2025-02-05 06:33:48 -0500 (Wed, 05 Feb 2025) EndedAt: 2025-02-05 06:34:07 -0500 (Wed, 05 Feb 2025) EllapsedTime: 18.9 seconds RetCode: 0 Status: OK CheckDir: GeneSummary.Rcheck Warnings: 0