Package: GeneSummary Version: 0.99.6 Command: /home/biocbuild/bbs-3.21-bioc/R/bin/R CMD INSTALL GeneSummary StartedAt: 2025-02-05 06:30:07 -0500 (Wed, 05 Feb 2025) EndedAt: 2025-02-05 06:30:09 -0500 (Wed, 05 Feb 2025) EllapsedTime: 1.9 seconds RetCode: 0 Status: OK