Package: JASPAR2020 Version: 0.99.8 Command: /home/biocbuild/bbs-3.21-bioc/R/bin/R CMD check --install=check:JASPAR2020.install-out.txt --library=/home/biocbuild/bbs-3.21-bioc/R/site-library --timings JASPAR2020_0.99.8.tar.gz StartedAt: 2025-02-12 06:34:06 -0500 (Wed, 12 Feb 2025) EndedAt: 2025-02-12 06:34:38 -0500 (Wed, 12 Feb 2025) EllapsedTime: 31.9 seconds RetCode: 1 Status: ERROR CheckDir: JASPAR2020.Rcheck Warnings: NA