Package: JASPAR2022 Version: 0.99.8 Command: /home/biocbuild/bbs-3.21-bioc/R/bin/R CMD check --install=check:JASPAR2022.install-out.txt --library=/home/biocbuild/bbs-3.21-bioc/R/site-library --timings JASPAR2022_0.99.8.tar.gz StartedAt: 2025-02-05 06:34:25 -0500 (Wed, 05 Feb 2025) EndedAt: 2025-02-05 06:35:37 -0500 (Wed, 05 Feb 2025) EllapsedTime: 71.7 seconds RetCode: 0 Status: OK CheckDir: JASPAR2022.Rcheck Warnings: 0