Package: JASPAR2022 Version: 0.99.8 Command: /home/biocbuild/bbs-3.21-bioc/R/bin/R CMD INSTALL JASPAR2022 StartedAt: 2025-02-12 06:30:10 -0500 (Wed, 12 Feb 2025) EndedAt: 2025-02-12 06:30:14 -0500 (Wed, 12 Feb 2025) EllapsedTime: 4.6 seconds RetCode: 0 Status: OK