Package: JASPAR2024 Version: 0.99.7 Maintainer: Damir Baranasic MaintainerEmail: damir.baranasic at lms.mrc.ac.uk git_url: https://git.bioconductor.org/packages/JASPAR2024 git_branch: devel git_last_commit: 3a1e18a git_last_commit_date: 2024-10-31 07:28:58 -0500 (Thu, 31 Oct 2024)