Package: MPO.db Version: 0.99.8 Command: /home/biocbuild/bbs-3.21-bioc/R/bin/R CMD build --keep-empty-dirs --no-resave-data MPO.db StartedAt: 2025-02-05 06:32:03 -0500 (Wed, 05 Feb 2025) EndedAt: 2025-02-05 06:32:46 -0500 (Wed, 05 Feb 2025) EllapsedTime: 43.5 seconds RetCode: 0 Status: OK PackageFile: MPO.db_0.99.8.tar.gz PackageFileSize: 29.95 KiB