Package: MPO.db Version: 0.99.8 Command: /home/biocbuild/bbs-3.21-bioc/R/bin/R CMD check --install=check:MPO.db.install-out.txt --library=/home/biocbuild/bbs-3.21-bioc/R/site-library --timings MPO.db_0.99.8.tar.gz StartedAt: 2025-02-05 06:34:29 -0500 (Wed, 05 Feb 2025) EndedAt: 2025-02-05 06:40:04 -0500 (Wed, 05 Feb 2025) EllapsedTime: 334.5 seconds RetCode: 0 Status: OK CheckDir: MPO.db.Rcheck Warnings: 0