Package: TENET.AnnotationHub Version: 0.99.4 Command: /home/biocbuild/bbs-3.21-bioc/R/bin/R CMD build --keep-empty-dirs --no-resave-data TENET.AnnotationHub StartedAt: 2025-02-05 06:32:18 -0500 (Wed, 05 Feb 2025) EndedAt: 2025-02-05 06:33:16 -0500 (Wed, 05 Feb 2025) EllapsedTime: 58.5 seconds RetCode: 0 Status: OK PackageFile: TENET.AnnotationHub_0.99.4.tar.gz PackageFileSize: 346.6 KiB