Package: TENET.AnnotationHub Version: 0.99.4 Command: /home/biocbuild/bbs-3.21-bioc/R/bin/R CMD check --install=check:TENET.AnnotationHub.install-out.txt --library=/home/biocbuild/bbs-3.21-bioc/R/site-library --timings TENET.AnnotationHub_0.99.4.tar.gz StartedAt: 2025-02-05 06:35:11 -0500 (Wed, 05 Feb 2025) EndedAt: 2025-02-05 06:37:02 -0500 (Wed, 05 Feb 2025) EllapsedTime: 110.7 seconds RetCode: 0 Status: OK CheckDir: TENET.AnnotationHub.Rcheck Warnings: 0