Package: excluderanges Version: 0.99.8 Command: /home/biocbuild/bbs-3.21-bioc/R/bin/R CMD build --keep-empty-dirs --no-resave-data excluderanges StartedAt: 2025-01-29 06:31:45 -0500 (Wed, 29 Jan 2025) EndedAt: 2025-01-29 06:32:31 -0500 (Wed, 29 Jan 2025) EllapsedTime: 45.6 seconds RetCode: 1 Status: ERROR PackageFile: None PackageFileSize: NA