Package: hpAnnot Version: 1.1.0 Command: /home/biocbuild/bbs-3.21-bioc/R/bin/R CMD build --keep-empty-dirs --no-resave-data hpAnnot StartedAt: 2025-02-05 06:31:34 -0500 (Wed, 05 Feb 2025) EndedAt: 2025-02-05 06:32:05 -0500 (Wed, 05 Feb 2025) EllapsedTime: 31.1 seconds RetCode: 0 Status: OK PackageFile: hpAnnot_1.1.0.tar.gz PackageFileSize: 228.8 MiB