Package: metaboliteIDmapping Version: 0.99.10 Command: /home/biocbuild/bbs-3.21-bioc/R/bin/R CMD INSTALL metaboliteIDmapping StartedAt: 2025-02-05 06:30:10 -0500 (Wed, 05 Feb 2025) EndedAt: 2025-02-05 06:30:55 -0500 (Wed, 05 Feb 2025) EllapsedTime: 44.9 seconds RetCode: 0 Status: OK