Package: rGenomeTracksData Version: 0.99.0 Command: /home/biocbuild/bbs-3.21-bioc/R/bin/R CMD build --keep-empty-dirs --no-resave-data rGenomeTracksData StartedAt: 2025-02-05 06:32:16 -0500 (Wed, 05 Feb 2025) EndedAt: 2025-02-05 06:32:36 -0500 (Wed, 05 Feb 2025) EllapsedTime: 19.6 seconds RetCode: 0 Status: OK PackageFile: rGenomeTracksData_0.99.0.tar.gz PackageFileSize: 10.09 KiB