Welcome to mirrors.dotsrc.org

All our mirrors of open source software are available via http, https, ftp and an onion service. More information about our mirrors including statistics and contact information is available on our mirror info pages.

For information about dotsrc.org and our other services please go to our website.

Index of /bioconductor/checkResults/3.21/data-experiment-LATEST/

File Name  ↓ File Size  ↓ Date  ↓ 
Parent directory/--
ALL/-2025-02-04 20:01:24
ALLMLL/-2025-02-04 20:01:24
ARRmData/-2025-02-04 20:01:24
ASICSdata/-2025-02-04 20:01:24
Affyhgu133A2Expr/-2025-02-04 20:01:24
Affyhgu133Plus2Expr/-2025-02-04 20:01:24
Affyhgu133aExpr/-2025-02-04 20:01:24
AffymetrixDataTestFiles/-2025-02-04 20:01:24
Affymoe4302Expr/-2025-02-04 20:01:24
AmpAffyExample/-2025-02-04 20:01:24
AneuFinderData/-2025-02-04 20:01:24
AshkenazimSonChr21/-2025-02-04 20:01:24
AssessORFData/-2025-02-04 20:01:24
BeadArrayUseCases/-2025-02-04 20:01:24
BeadSorted.Saliva.EPIC/-2025-02-04 20:01:24
BioImageDbs/-2025-02-04 20:01:24
BioPlex/-2025-02-04 20:01:24
BloodCancerMultiOmics2017/-2025-02-04 20:01:24
CCl4/-2025-02-04 20:01:24
CLL/-2025-02-04 20:01:24
CLLmethylation/-2025-02-04 20:01:24
COHCAPanno/-2025-02-04 20:01:24
CONFESSdata/-2025-02-04 20:01:24
COPDSexualDimorphism.data/-2025-02-04 20:01:24
COSMIC.67/-2025-02-04 20:01:24
CRCL18/-2025-02-04 20:01:24
CardinalWorkflows/-2025-02-04 20:01:24
CellMapperData/-2025-02-04 20:01:24
ChAMPdata/-2025-02-04 20:01:24
ChIPXpressData/-2025-02-04 20:01:24
ChIPexoQualExample/-2025-02-04 20:01:24
ChimpHumanBrainData/-2025-02-04 20:01:24
CluMSIDdata/-2025-02-04 20:01:24
CoSIAdata/-2025-02-04 20:01:24
ConnectivityMap/-2025-02-04 20:01:24
CopyNeutralIMA/-2025-02-04 20:01:24
CopyhelpeR/-2025-02-04 20:01:24
CytoMethIC/-2025-02-04 20:01:24
DAPARdata/-2025-02-04 20:01:24
DExMAdata/-2025-02-04 20:01:24
DLBCL/-2025-02-04 20:01:24
DMRcatedata/-2025-02-04 20:01:24
DNAZooData/-2025-02-04 20:01:24
DeSousa2013/-2025-02-04 20:01:24
DonaPLLP2013/-2025-02-04 20:01:24
DropletTestFiles/-2025-02-04 20:01:24
DrugVsDiseasedata/-2025-02-04 20:01:24
DuoClustering2018/-2025-02-04 20:01:24
DvDdata/-2025-02-04 20:01:24
EGSEAdata/-2025-02-04 20:01:24
ELMER.data/-2025-02-04 20:01:24
EatonEtAlChIPseq/-2025-02-04 20:01:24
EpiMix.data/-2025-02-04 20:01:24
EpipwR.data/-2025-02-04 20:01:24
FANTOM3and4CAGE/-2025-02-04 20:01:24
FIs/-2025-02-04 20:01:24
FieldEffectCrc/-2025-02-04 20:01:24
Fletcher2013a/-2025-02-04 20:01:24
Fletcher2013b/-2025-02-04 20:01:24
FlowSorted.Blood.450k/-2025-02-04 20:01:24
FlowSorted.Blood.EPIC/-2025-02-04 20:01:24
FlowSorted.CordBlood.450k/-2025-02-04 20:01:24
FlowSorted.CordBloodCombined.450k/-2025-02-04 20:01:24
FlowSorted.CordBloodNorway.450k/-2025-02-04 20:01:24
FlowSorted.DLPFC.450k/-2025-02-04 20:01:24
GIGSEAdata/-2025-02-04 20:01:24
GSBenchMark/-2025-02-04 20:01:24
GSE103322/-2025-02-04 20:01:24
GSE13015/-2025-02-04 20:01:24
GSE159526/-2025-02-04 20:01:24
GSE62944/-2025-02-04 20:01:24
GSVAdata/-2025-02-04 20:01:24
GWASdata/-2025-02-04 20:01:24
GenomicDistributionsData/-2025-02-04 20:01:24
GeuvadisTranscriptExpr/-2025-02-04 20:01:24
HCAData/-2025-02-04 20:01:24
HCATonsilData/-2025-02-04 20:01:24
HD2013SGI/-2025-02-04 20:01:24
HDCytoData/-2025-02-04 20:01:24
HEEBOdata/-2025-02-04 20:01:24
HIVcDNAvantWout03/-2025-02-04 20:01:24
HMP16SData/-2025-02-04 20:01:24
HMP2Data/-2025-02-04 20:01:24
HSMMSingleCell/-2025-02-04 20:01:25
HarmanData/-2025-02-04 20:01:24
HarmonizedTCGAData/-2025-02-04 20:01:24
HelloRangesData/-2025-02-04 20:01:24
HiBED/-2025-02-04 20:01:24
HiCDataHumanIMR90/-2025-02-04 20:01:24
HiCDataLymphoblast/-2025-02-04 20:01:24
HiContactsData/-2025-02-04 20:01:24
HighlyReplicatedRNASeq/-2025-02-04 20:01:24
Hiiragi2013/-2025-02-04 20:01:24
HumanAffyData/-2025-02-04 20:01:25
IHWpaper/-2025-02-04 20:01:25
ITALICSData/-2025-02-04 20:01:25
Illumina450ProbeVariants.db/-2025-02-04 20:01:25
IlluminaDataTestFiles/-2025-02-04 20:01:25
Iyer517/-2025-02-04 20:01:25
JASPAR2014/-2025-02-04 20:01:25
JASPAR2016/-2025-02-04 20:01:25
JohnsonKinaseData/-2025-02-04 20:01:25
KEGGandMetacoreDzPathwaysGEO/-2025-02-04 20:01:25
KEGGdzPathwaysGEO/-2025-02-04 20:01:25
KOdata/-2025-02-04 20:01:25
LRcellTypeMarkers/-2025-02-04 20:01:25
LegATo/-2025-02-04 20:01:25
LiebermanAidenHiC2009/-2025-02-04 20:01:25
ListerEtAlBSseq/-2025-02-04 20:01:25
LungCancerACvsSCCGEO/-2025-02-04 20:01:25
LungCancerLines/-2025-02-04 20:01:25
M3DExampleData/-2025-02-04 20:01:25
MACSdata/-2025-02-04 20:01:25
MAQCsubset/-2025-02-04 20:01:25
MEDIPSData/-2025-02-04 20:01:25
MEEBOdata/-2025-02-04 20:01:25
MMDiffBamSubset/-2025-02-04 20:01:25
MOFAdata/-2025-02-04 20:01:25
MSMB/-2025-02-04 20:01:25
MUGAExampleData/-2025-02-04 20:01:25
MerfishData/-2025-02-04 20:01:25
MetaGxBreast/-2025-02-04 20:01:25
MetaGxOvarian/-2025-02-04 20:01:25
MetaGxPancreas/-2025-02-04 20:01:25
MetaScope/-2025-02-04 20:01:25
MethylAidData/-2025-02-04 20:01:25
MethylSeqData/-2025-02-04 20:01:25
MicrobiomeBenchmarkData/-2025-02-04 20:01:25
MouseAgingData/-2025-02-04 20:01:25
MouseGastrulationData/-2025-02-04 20:01:25
MouseThymusAgeing/-2025-02-04 20:01:25
NCIgraphData/-2025-02-04 20:01:25
NGScopyData/-2025-02-04 20:01:25
NanoporeRNASeq/-2025-02-04 20:01:25
NestLink/-2025-02-04 20:01:25
NetActivityData/-2025-02-04 20:01:25
Neve2006/-2025-02-04 20:01:25
NxtIRFdata/-2025-02-04 20:01:25
OMICsPCAdata/-2025-02-04 20:01:25
ObMiTi/-2025-02-04 20:01:25
OnassisJavaLibs/-2025-02-04 20:01:25
PCHiCdata/-2025-02-04 20:01:25
PREDAsampledata/-2025-02-04 20:01:25
PWMEnrich.Dmelanogaster.background/-2025-02-04 20:01:25
PWMEnrich.Hsapiens.background/-2025-02-04 20:01:25
PWMEnrich.Mmusculus.background/-2025-02-04 20:01:25
PasillaTranscriptExpr/-2025-02-04 20:01:25
PathNetData/-2025-02-04 20:01:25
PepsNMRData/-2025-02-04 20:01:25
PhyloProfileData/-2025-02-04 20:01:25
ProData/-2025-02-04 20:01:25
ProteinGymR/-2025-02-04 20:01:25
PtH2O2lipids/-2025-02-04 20:01:25
QDNAseq.hg19/-2025-02-04 20:01:25
QDNAseq.mm10/-2025-02-04 20:01:25
QUBICdata/-2025-02-04 20:01:25
RGMQLlib/-2025-02-04 20:01:25
RITANdata/-2025-02-04 20:01:25
RMassBankData/-2025-02-04 20:01:25
RNAmodR.Data/-2025-02-04 20:01:25
RNAseqData.HNRNPC.bam.chr14/-2025-02-04 20:01:25
RRBSdata/-2025-02-04 20:01:25
RTCGA.CNV/-2025-02-04 20:01:25
RTCGA.PANCAN12/-2025-02-04 20:01:25
RTCGA.RPPA/-2025-02-04 20:01:25
RTCGA.clinical/-2025-02-04 20:01:25
RTCGA.mRNA/-2025-02-04 20:01:25
RTCGA.methylation/-2025-02-04 20:01:25
RTCGA.miRNASeq/-2025-02-04 20:01:25
RTCGA.mutations/-2025-02-04 20:01:25
RTCGA.rnaseq/-2025-02-04 20:01:25
RUVnormalizeData/-2025-02-04 20:01:25
RcisTarget.hg19.motifDBs.cisbpOnly.500bp/-2025-02-04 20:01:25
ReactomeGSA.data/-2025-02-04 20:01:25
RegParallel/-2025-02-04 20:01:25
RforProteomics/-2025-02-04 20:01:25
RnBeads.hg19/-2025-02-04 20:01:25
RnBeads.hg38/-2025-02-04 20:01:25
RnBeads.mm10/-2025-02-04 20:01:25
RnBeads.mm9/-2025-02-04 20:01:25
RnBeads.rn5/-2025-02-04 20:01:25
RnaSeqSampleSizeData/-2025-02-04 20:01:25
SBGNview.data/-2025-02-04 20:01:25
SCLCBam/-2025-02-04 20:01:25
SFEData/-2025-02-04 20:01:25
SNAData/-2025-02-04 20:01:25
SNAGEEdata/-2025-02-04 20:01:25
SNPhoodData/-2025-02-04 20:01:25
STexampleData/-2025-02-04 20:01:25
SVM2CRMdata/-2025-02-04 20:01:25
SimBenchData/-2025-02-04 20:01:25
Single.mTEC.Transcriptomes/-2025-02-04 20:01:25
SingleCellMultiModal/-2025-02-04 20:01:25
SingleMoleculeFootprintingData/-2025-02-04 20:01:25
SomatiCAData/-2025-02-04 20:01:25
SomaticCancerAlterations/-2025-02-04 20:01:25
SpatialDatasets/-2025-02-04 20:01:25
SpikeIn/-2025-02-04 20:01:25
SpikeInSubset/-2025-02-04 20:01:25
SubcellularSpatialData/-2025-02-04 20:01:25
TBX20BamSubset/-2025-02-04 20:01:25
TCGAMethylation450k/-2025-02-04 20:01:25
TCGAWorkflowData/-2025-02-04 20:01:25
TCGAbiolinksGUI.data/-2025-02-04 20:01:25
TCGAcrcmRNA/-2025-02-04 20:01:25
TCGAcrcmiRNA/-2025-02-04 20:01:25
TENxBUSData/-2025-02-04 20:01:25
TENxBrainData/-2025-02-04 20:01:25
TENxPBMCData/-2025-02-04 20:01:25
TENxVisiumData/-2025-02-04 20:01:25
TENxXeniumData/-2025-02-04 20:01:25
TMExplorer/-2025-02-04 20:01:25
TabulaMurisData/-2025-02-04 20:01:25
TabulaMurisSenisData/-2025-02-04 20:01:25
TargetScoreData/-2025-02-04 20:01:25
TargetSearchData/-2025-02-04 20:01:25
TimerQuant/-2025-02-04 20:01:25
TransOmicsData/-2025-02-04 20:01:25
TumourMethData/-2025-02-04 20:01:25
VariantToolsData/-2025-02-04 20:01:25
VectraPolarisData/-2025-02-04 20:01:25
WES.1KG.WUGSC/-2025-02-04 20:01:25
WGSmapp/-2025-02-04 20:01:25
WeberDivechaLCdata/-2025-02-04 20:01:25
XhybCasneuf/-2025-02-04 20:01:25
adductData/-2025-02-04 20:01:24
affycompData/-2025-02-04 20:01:24
affydata/-2025-02-04 20:01:24
airway/-2025-02-04 20:01:24
antiProfilesData/-2025-02-04 20:01:24
aracne.networks/-2025-02-04 20:01:24
bcellViper/-2025-02-04 20:01:24
beadarrayExampleData/-2025-02-04 20:01:24
benchmarkfdrData2019/-2025-02-04 20:01:24
beta7/-2025-02-04 20:01:24
biotmleData/-2025-02-04 20:01:24
biscuiteerData/-2025-02-04 20:01:24
bladderbatch/-2025-02-04 20:01:24
blimaTestingData/-2025-02-04 20:01:24
bodymapRat/-2025-02-04 20:01:24
breakpointRdata/-2025-02-04 20:01:24
breastCancerMAINZ/-2025-02-04 20:01:24
breastCancerNKI/-2025-02-04 20:01:24
breastCancerTRANSBIG/-2025-02-04 20:01:24
breastCancerUNT/-2025-02-04 20:01:24
breastCancerUPP/-2025-02-04 20:01:24
breastCancerVDX/-2025-02-04 20:01:24
brgedata/-2025-02-04 20:01:24
bronchialIL13/-2025-02-04 20:01:24
bsseqData/-2025-02-04 20:01:24
bugphyzz/-2025-02-04 20:01:24
cMap2data/-2025-02-04 20:01:24
cancerdata/-2025-02-04 20:01:24
ccdata/-2025-02-04 20:01:24
celarefData/-2025-02-04 20:01:24
celldex/-2025-02-04 20:01:24
cfToolsData/-2025-02-04 20:01:24
chipenrich.data/-2025-02-04 20:01:24
chipseqDBData/-2025-02-04 20:01:24
chromstaRData/-2025-02-04 20:01:24
clustifyrdatahub/-2025-02-04 20:01:24
cnvGSAdata/-2025-02-04 20:01:24
colonCA/-2025-02-04 20:01:24
crisprScoreData/-2025-02-04 20:01:24
curatedAdipoArray/-2025-02-04 20:01:24
curatedAdipoChIP/-2025-02-04 20:01:24
curatedAdipoRNA/-2025-02-04 20:01:24
curatedBladderData/-2025-02-04 20:01:24
curatedBreastData/-2025-02-04 20:01:24
curatedCRCData/-2025-02-04 20:01:24
curatedMetagenomicData/-2025-02-04 20:01:24
curatedOvarianData/-2025-02-04 20:01:24
curatedPCaData/-2025-02-04 20:01:24
curatedTBData/-2025-02-04 20:01:24
curatedTCGAData/-2025-02-04 20:01:24
davidTiling/-2025-02-04 20:01:24
depmap/-2025-02-04 20:01:24
derfinderData/-2025-02-04 20:01:24
diffloopdata/-2025-02-04 20:01:24
diggitdata/-2025-02-04 20:01:24
dorothea/-2025-02-04 20:01:24
dressCheck/-2025-02-04 20:01:24
dyebiasexamples/-2025-02-04 20:01:24
easierData/-2025-02-04 20:01:24
ecoliLeucine/-2025-02-04 20:01:24
emtdata/-2025-02-04 20:01:24
eoPredData/-2025-02-04 20:01:24
epimutacionsData/-2025-02-04 20:01:24
estrogen/-2025-02-04 20:01:24
etec16s/-2025-02-04 20:01:24
ewceData/-2025-02-04 20:01:24
faahKO/-2025-02-04 20:01:24
fabiaData/-2025-02-04 20:01:24
ffpeExampleData/-2025-02-04 20:01:24
fibroEset/-2025-02-04 20:01:24
fission/-2025-02-04 20:01:24
flowPloidyData/-2025-02-04 20:01:24
flowWorkspaceData/-2025-02-04 20:01:24
fourDNData/-2025-02-04 20:01:24
frmaExampleData/-2025-02-04 20:01:24
furrowSeg/-2025-02-04 20:01:24
gDNAinRNAseqData/-2025-02-04 20:01:24
gDRtestData/-2025-02-04 20:01:24
gageData/-2025-02-04 20:01:24
gaschYHS/-2025-02-04 20:01:24
gcspikelite/-2025-02-04 20:01:24
geneLenDataBase/-2025-02-04 20:01:24
genomationData/-2025-02-04 20:01:24
golubEsets/-2025-02-04 20:01:24
gpaExample/-2025-02-04 20:01:24
grndata/-2025-02-04 20:01:24
h5vcData/-2025-02-04 20:01:24
hapmap100khind/-2025-02-04 20:01:24
hapmap100kxba/-2025-02-04 20:01:24
hapmap500knsp/-2025-02-04 20:01:24
hapmap500ksty/-2025-02-04 20:01:24
hapmapsnp5/-2025-02-04 20:01:24
hapmapsnp6/-2025-02-04 20:01:24
harbChIP/-2025-02-04 20:01:24
healthyControlsPresenceChecker/-2025-02-04 20:01:24
healthyFlowData/-2025-02-04 20:01:24
hgu133abarcodevecs/-2025-02-04 20:01:24
hgu133plus2CellScore/-2025-02-04 20:01:24
hgu133plus2barcodevecs/-2025-02-04 20:01:24
hgu2beta7/-2025-02-04 20:01:24
homosapienDEE2CellScore/-2025-02-04 20:01:25
humanHippocampus2024/-2025-02-04 20:01:25
humanStemCell/-2025-02-04 20:01:25
imcdatasets/-2025-02-04 20:01:25
kidpack/-2025-02-04 20:01:25
leeBamViews/-2025-02-04 20:01:25
leukemiasEset/-2025-02-04 20:01:25
lumiBarnes/-2025-02-04 20:01:25
lungExpression/-2025-02-04 20:01:25
lydata/-2025-02-04 20:01:25
mCSEAdata/-2025-02-04 20:01:25
macrophage/-2025-02-04 20:01:25
mammaPrintData/-2025-02-04 20:01:25
maqcExpression4plex/-2025-02-04 20:01:25
marinerData/-2025-02-04 20:01:25
mcsurvdata/-2025-02-04 20:01:25
metaMSdata/-2025-02-04 20:01:25
methylclockData/-2025-02-04 20:01:25
miRNATarget/-2025-02-04 20:01:25
miRcompData/-2025-02-04 20:01:25
microRNAome/-2025-02-04 20:01:25
microbiomeDataSets/-2025-02-04 20:01:25
minfiData/-2025-02-04 20:01:25
minfiDataEPIC/-2025-02-04 20:01:25
minionSummaryData/-2025-02-04 20:01:25
mosaicsExample/-2025-02-04 20:01:25
mouse4302barcodevecs/-2025-02-04 20:01:25
msPurityData/-2025-02-04 20:01:25
msd16s/-2025-02-04 20:01:25
msdata/-2025-02-04 20:01:25
msigdb/-2025-02-04 20:01:25
msqc1/-2025-02-04 20:01:25
mtbls2/-2025-02-04 20:01:25
muleaData/-2025-02-04 20:01:25
multiWGCNAdata/-2025-02-04 20:01:25
muscData/-2025-02-04 20:01:25
mvoutData/-2025-02-04 20:01:25
nanotubes/-2025-02-04 20:01:25
nullrangesData/-2025-02-04 20:01:25
oct4/-2025-02-04 20:01:25
octad.db/-2025-02-04 20:01:25
optimalFlowData/-2025-02-04 20:01:25
orthosData/-2025-02-04 20:01:25
pRolocdata/-2025-02-04 20:01:25
parathyroidSE/-2025-02-04 20:01:25
pasilla/-2025-02-04 20:01:25
pasillaBamSubset/-2025-02-04 20:01:25
pd.atdschip.tiling/-2025-02-04 20:01:25
pepDat/-2025-02-04 20:01:25
plotgardenerData/-2025-02-04 20:01:25
prebsdata/-2025-02-04 20:01:25
preciseTADhub/-2025-02-04 20:01:25
prostateCancerCamcap/-2025-02-04 20:01:25
prostateCancerGrasso/-2025-02-04 20:01:25
prostateCancerStockholm/-2025-02-04 20:01:25
prostateCancerTaylor/-2025-02-04 20:01:25
prostateCancerVarambally/-2025-02-04 20:01:25
ptairData/-2025-02-04 20:01:25
pumadata/-2025-02-04 20:01:25
qPLEXdata/-2025-02-04 20:01:25
rRDPData/-2025-02-04 20:01:25
raerdata/-2025-02-04 20:01:25
rcellminerData/-2025-02-04 20:01:25
rheumaticConditionWOLLBOLD/-2025-02-04 20:01:25
sampleClassifierData/-2025-02-04 20:01:25
scATAC.Explorer/-2025-02-04 20:01:25
scMultiome/-2025-02-04 20:01:25
scRNAseq/-2025-02-04 20:01:25
scTHI.data/-2025-02-04 20:01:25
scaeData/-2025-02-04 20:01:25
scanMiRData/-2025-02-04 20:01:25
scpdata/-2025-02-04 20:01:25
seq2pathway.data/-2025-02-04 20:01:25
seqc/-2025-02-04 20:01:25
serumStimulation/-2025-02-04 20:01:25
sesameData/-2025-02-04 20:01:25
seventyGeneData/-2025-02-04 20:01:25
shinyMethylData/-2025-02-04 20:01:25
signatureSearchData/-2025-02-04 20:01:25
simpIntLists/-2025-02-04 20:01:25
smokingMouse/-2025-02-04 20:01:25
spatialDmelxsim/-2025-02-04 20:01:25
spatialLIBD/-2025-02-04 20:01:25
spqnData/-2025-02-04 20:01:25
stemHypoxia/-2025-02-04 20:01:25
synapterdata/-2025-02-04 20:01:25
systemPipeRdata/-2025-02-04 20:01:25
tartare/-2025-02-04 20:01:25
timecoursedata/-2025-02-04 20:01:25
tinesath1cdf/-2025-02-04 20:01:25
tinesath1probe/-2025-02-04 20:01:25
tissueTreg/-2025-02-04 20:01:25
tofsimsData/-2025-02-04 20:01:25
topdownrdata/-2025-02-04 20:01:25
tuberculosis/-2025-02-04 20:01:25
tweeDEseqCountData/-2025-02-04 20:01:25
tximportData/-2025-02-04 20:01:25
vulcandata/-2025-02-04 20:01:25
xcoredata/-2025-02-04 20:01:25
yeastCC/-2025-02-04 20:01:25
yeastExpData/-2025-02-04 20:01:25
yeastGSData/-2025-02-04 20:01:25
yeastNagalakshmi/-2025-02-04 20:01:25
yeastRNASeq/-2025-02-04 20:01:25
zebrafishRNASeq/-2025-02-04 20:01:25
120px-Blue_Light_Icon.svg.png7.1 KiB2025-02-04 20:01:23
120px-Green_Light_Icon.svg.png7.1 KiB2025-02-04 20:01:23
120px-Red_Light_Icon.svg.png7.0 KiB2025-02-04 20:01:23
BUILD_STATUS_DB.txt47.1 KiB2025-02-04 20:01:23
DEVEL3b.png2.6 KiB2025-02-04 20:01:23
PROPAGATION_STATUS_DB.txt30.5 KiB2025-02-04 20:01:23
Renviron.bioc3.3 KiB2025-02-04 20:01:23
index.html593.7 KiB2025-02-04 20:01:25
meat-index.dcf46.2 KiB2025-02-04 20:01:23
nebbiolo1-NodeInfo.html6.8 KiB2025-02-04 20:01:23
nebbiolo1-R-instpkgs.html516.7 KiB2025-02-04 20:01:23
report.css11.0 KiB2025-02-04 20:01:23
report.js6.0 KiB2025-02-04 20:01:23
report.tgz1.2 MiB2025-02-04 20:01:28
skipped-index.dcf0 B2025-02-04 20:01:23