Package: AneuFinderData Version: 1.35.0 Command: /home/biocbuild/bbs-3.21-bioc/R/bin/R CMD build --keep-empty-dirs --no-resave-data AneuFinderData StartedAt: 2025-02-06 11:07:18 -0500 (Thu, 06 Feb 2025) EndedAt: 2025-02-06 11:07:23 -0500 (Thu, 06 Feb 2025) EllapsedTime: 5.3 seconds RetCode: 0 Status: OK PackageFile: AneuFinderData_1.35.0.tar.gz PackageFileSize: 57.02 MiB